BEGIN:VCALENDAR
VERSION:2.0
PRODID:-//https://private-area.richemont-club.es///NONSGML kigkonsult.se iCalcreator 2.10.15//
METHOD:PUBLISH
BEGIN:VEVENT
UID:20260421T094427UTC-53987GELNe@https://private-area.richemont-club.es/
DTSTAMP:20260421T094427Z
DESCRIPTION: https://private-area.richemont-club.es/be/be-events/event/28-i
 rc-meeting-italy-2026
DTSTART;VALUE=DATE:20260918
LOCATION:see attachment ()
SUMMARY:IRC Meeting Italy 2026
URL:https://private-area.richemont-club.es/be/be-events/event/28-irc-meetin
 g-italy-2026
END:VEVENT
END:VCALENDAR
